BEGIN:VCALENDAR
VERSION:2.0
PRODID:-//State Senator Mike McKay for Maryland District 1 - ECPv6.15.20//NONSGML v1.0//EN
CALSCALE:GREGORIAN
METHOD:PUBLISH
X-ORIGINAL-URL:https://mikemckaymd.com
X-WR-CALDESC:Events for State Senator Mike McKay for Maryland District 1
REFRESH-INTERVAL;VALUE=DURATION:PT1H
X-Robots-Tag:noindex
X-PUBLISHED-TTL:PT1H
BEGIN:VTIMEZONE
TZID:America/New_York
BEGIN:DAYLIGHT
TZOFFSETFROM:-0500
TZOFFSETTO:-0400
TZNAME:EDT
DTSTART:20250309T070000
END:DAYLIGHT
BEGIN:STANDARD
TZOFFSETFROM:-0400
TZOFFSETTO:-0500
TZNAME:EST
DTSTART:20251102T060000
END:STANDARD
BEGIN:DAYLIGHT
TZOFFSETFROM:-0500
TZOFFSETTO:-0400
TZNAME:EDT
DTSTART:20260308T070000
END:DAYLIGHT
BEGIN:STANDARD
TZOFFSETFROM:-0400
TZOFFSETTO:-0500
TZNAME:EST
DTSTART:20261101T060000
END:STANDARD
BEGIN:DAYLIGHT
TZOFFSETFROM:-0500
TZOFFSETTO:-0400
TZNAME:EDT
DTSTART:20270314T070000
END:DAYLIGHT
BEGIN:STANDARD
TZOFFSETFROM:-0400
TZOFFSETTO:-0500
TZNAME:EST
DTSTART:20271107T060000
END:STANDARD
END:VTIMEZONE
BEGIN:VEVENT
DTSTART;TZID=America/New_York:20260609T190000
DTEND;TZID=America/New_York:20260609T220000
DTSTAMP:20260422T065731
CREATED:20260414T160046Z
LAST-MODIFIED:20260421T151446Z
UID:3446-1781031600-1781042400@mikemckaymd.com
SUMMARY:Senator Mike McKay's Cigars & Steam
DESCRIPTION:Join Senator Mike McKay for an Evening of Cigars & Steam\nBoard the historic Western Maryland Scenic Railroad for an unforgettable evening of cigars\, scotch\, and good company. Please arrive at the Historic Western Maryland Railway Station at 6:30 PM for boarding. The train departs at 7:00 PM. \nTickets\n\n$100 — Deluxe Coach & Cash Bar\n$175 — Premium Cigar & Scotch Included\n\nGet Your Tickets Here \nSponsorship Opportunities\n\n$500 — Engineer Sponsorship\n$750 — Brakeman Sponsorship\n$1\,000 — Conductor Sponsorship\n\nPurchase Tickets & Sponsorships \nAuthority by Citizens to Elect Mike McKay. Jeremy Bender\, Treasurer.
URL:https://mikemckaymd.com/event/senator-mike-mckays-cigars-steam/
LOCATION:Historic Western Maryland Railway Station
ATTACH;FMTTYPE=image/webp:https://mikemckaymd.com/wp-content/uploads/2026/04/Cigars-Steam-copy.webp
END:VEVENT
END:VCALENDAR