BEGIN:VCALENDAR
VERSION:2.0
PRODID:-//State Senator Mike McKay for Maryland District 1 - ECPv6.15.20//NONSGML v1.0//EN
CALSCALE:GREGORIAN
METHOD:PUBLISH
X-WR-CALNAME:State Senator Mike McKay for Maryland District 1
X-ORIGINAL-URL:https://mikemckaymd.com
X-WR-CALDESC:Events for State Senator Mike McKay for Maryland District 1
REFRESH-INTERVAL;VALUE=DURATION:PT1H
X-Robots-Tag:noindex
X-PUBLISHED-TTL:PT1H
BEGIN:VTIMEZONE
TZID:America/Halifax
BEGIN:DAYLIGHT
TZOFFSETFROM:-0400
TZOFFSETTO:-0300
TZNAME:ADT
DTSTART:20210314T060000
END:DAYLIGHT
BEGIN:STANDARD
TZOFFSETFROM:-0300
TZOFFSETTO:-0400
TZNAME:AST
DTSTART:20211107T050000
END:STANDARD
BEGIN:DAYLIGHT
TZOFFSETFROM:-0400
TZOFFSETTO:-0300
TZNAME:ADT
DTSTART:20220313T060000
END:DAYLIGHT
BEGIN:STANDARD
TZOFFSETFROM:-0300
TZOFFSETTO:-0400
TZNAME:AST
DTSTART:20221106T050000
END:STANDARD
BEGIN:DAYLIGHT
TZOFFSETFROM:-0400
TZOFFSETTO:-0300
TZNAME:ADT
DTSTART:20230312T060000
END:DAYLIGHT
BEGIN:STANDARD
TZOFFSETFROM:-0300
TZOFFSETTO:-0400
TZNAME:AST
DTSTART:20231105T050000
END:STANDARD
BEGIN:DAYLIGHT
TZOFFSETFROM:-0400
TZOFFSETTO:-0300
TZNAME:ADT
DTSTART:20240310T060000
END:DAYLIGHT
BEGIN:STANDARD
TZOFFSETFROM:-0300
TZOFFSETTO:-0400
TZNAME:AST
DTSTART:20241103T050000
END:STANDARD
BEGIN:DAYLIGHT
TZOFFSETFROM:-0400
TZOFFSETTO:-0300
TZNAME:ADT
DTSTART:20250309T060000
END:DAYLIGHT
BEGIN:STANDARD
TZOFFSETFROM:-0300
TZOFFSETTO:-0400
TZNAME:AST
DTSTART:20251102T050000
END:STANDARD
BEGIN:DAYLIGHT
TZOFFSETFROM:-0400
TZOFFSETTO:-0300
TZNAME:ADT
DTSTART:20260308T060000
END:DAYLIGHT
BEGIN:STANDARD
TZOFFSETFROM:-0300
TZOFFSETTO:-0400
TZNAME:AST
DTSTART:20261101T050000
END:STANDARD
BEGIN:DAYLIGHT
TZOFFSETFROM:-0400
TZOFFSETTO:-0300
TZNAME:ADT
DTSTART:20270314T060000
END:DAYLIGHT
BEGIN:STANDARD
TZOFFSETFROM:-0300
TZOFFSETTO:-0400
TZNAME:AST
DTSTART:20271107T050000
END:STANDARD
END:VTIMEZONE
BEGIN:VEVENT
DTSTART;TZID=America/Halifax:20260216T170000
DTEND;TZID=America/Halifax:20260216T170000
DTSTAMP:20260420T163412
CREATED:20260205T163124Z
LAST-MODIFIED:20260205T163124Z
UID:3393-1771261200-1771261200@mikemckaymd.com
SUMMARY:District 1 Night in Annapolis
DESCRIPTION:Looking forward to a great evening in Annapolis with District 1!\n\n\n\nI’m excited to host An Evening in Annapolis and welcome residents from Allegany\, Garrett\, and Washington Counties to share updates\, hear your concerns\, and discuss the issues that matter most back home in Appalachian Maryland.\n\n\n\nI’m grateful to be joined by my colleagues Delegate Terry L. Baker\, Delegate Jason C. Buckel\, and Delegate Jim Hinebaugh\, Jr. as we come together on behalf of District 1.\n\n\n\nWe look forward to opening the doors in Annapolis and continuing the conversation with the people we’re proud to serve.
URL:https://mikemckaymd.com/event/district-1-night-in-annapolis/
LOCATION:Lowe House Office Building\, 6 Bladen Street Room 170\, Annapolis\, MD\, 21401\, United States
ATTACH;FMTTYPE=image/webp:https://mikemckaymd.com/wp-content/uploads/2026/02/District-1-night-.webp
END:VEVENT
BEGIN:VEVENT
DTSTART;TZID=America/Halifax:20250912T100000
DTEND;TZID=America/Halifax:20250912T140000
DTSTAMP:20260420T163412
CREATED:20250811T175329Z
LAST-MODIFIED:20250815T162008Z
UID:3286-1757671200-1757685600@mikemckaymd.com
SUMMARY:7th Annual Mike McKay Golf Tournament
DESCRIPTION:Senator Mike McKay’s 7th Annual Golf Tournament \nTee off with Senator Mike McKay on Friday\, September 12th\, 2025\, at 11:00 AM at the beautiful Rocky Gap Golf Course for a day of friendly competition\, networking\, and outdoor fun. Whether you’re joining as a single golfer for $125 or bringing a foursome for $425\, you’ll enjoy a memorable round on one of Maryland’s premier courses. Sponsorship opportunities are available\, offering a great way to showcase your support while connecting with community leaders. Don’t miss your chance to be part of this annual tradition! \nBuy tickets here. 
URL:https://mikemckaymd.com/event/7th-annual-mike-mckay-golf-tournament/
LOCATION:Rocky Gap Golf Course\, 16701 Lakeview Road NE\, Flintstone\, MD\, 21530\, United States
ATTACH;FMTTYPE=image/png:https://mikemckaymd.com/wp-content/uploads/2025/08/IMG_20250814_184106.png
END:VEVENT
BEGIN:VEVENT
DTSTART;TZID=America/Halifax:20250610T190000
DTEND;TZID=America/Halifax:20250610T210000
DTSTAMP:20260420T163412
CREATED:20250423T173420Z
LAST-MODIFIED:20250505T193901Z
UID:3162-1749582000-1749589200@mikemckaymd.com
SUMMARY:Don't Miss Sen. Mike McKay's Cigars & Steam Fundraiser
DESCRIPTION:You’re Invited! \nClimb Aboard A Steam Train Through Scenic\nWestern Maryland While Enjoying Scotch And Cigars! \nDeluxe Coach & Cash Bar- $100 Per Ticket\nPremium Experience (Cigar Included)- $175 Per Ticket \n Western Maryland Scenic Railroad \n13 Canal St\, Cumberland\, MD 21502 \nJune 10th | 7:00pm \nCheck-In 6:30pm \n\nTo Purchase Tickets\, Click Here. \nFor the Event Flyer\, Click Here.
URL:https://mikemckaymd.com/event/cigars-steam/
LOCATION:Western Maryland Scenic Railroad\, 13 Canal St\, Cumberland\, MD\, 21502\, United States
ATTACH;FMTTYPE=image/png:https://mikemckaymd.com/wp-content/uploads/2025/04/Cigars-Steam-7-scaled.png
END:VEVENT
BEGIN:VEVENT
DTSTART;TZID=America/Halifax:20250520T170000
DTEND;TZID=America/Halifax:20250520T190000
DTSTAMP:20260420T163412
CREATED:20250520T173408Z
LAST-MODIFIED:20250520T173934Z
UID:3208-1747760400-1747767600@mikemckaymd.com
SUMMARY:Virtual Disaster Center Information Session
DESCRIPTION:Agenda: Virtual presentation (approximately 5 minutes) followed by private breakout sessions. \nThe Maryland Insurance Administration is opening our Virtual Disaster Center to help anyone with insurance-related issues or questions regarding damage from recent severe weather events. Registration is not required. Use the QR Code or Zoom link above to join or call-in with the information below: \nDial-in number: (646) 828-7666 \nMeeting ID: 161 415 9526
URL:https://mikemckaymd.com/event/virtual-disaster-center-information-session/
ATTACH;FMTTYPE=application/pdf:https://mikemckaymd.com/wp-content/uploads/2025/05/VDC-Flyer-5202025.pdf
END:VEVENT
BEGIN:VEVENT
DTSTART;TZID=America/Halifax:20250226T180000
DTEND;TZID=America/Halifax:20250226T190000
DTSTAMP:20260420T163412
CREATED:20250204T200718Z
LAST-MODIFIED:20250204T200718Z
UID:3054-1740592800-1740596400@mikemckaymd.com
SUMMARY:Strategic Highway Safety Plan Workshop - Western Maryland
DESCRIPTION:Join the Maryland Highway Safety Office for an informative discussion on traffic safety behaviors as we work on the 2026-2030 Strategic Highway Safety Plan. Share your feedback during a series of in-person and virtual meetings held throughout the state. \nWorkshops will be held in a hybrid format\, in-person with a virtual attendance option. Meeting information will be posted prior to the event. \nFor more information about the Maryland Strategic Highway Safety Plan\, visit the SHSP page. \nPlease RSVP here.  \n  \n 
URL:https://mikemckaymd.com/event/strategic-highway-safety-plan-workshop-western-maryland/
LOCATION:Baltimore Pike Volunteer Fire Company\, 15010 Baltimore Pike NE\, Cumberland\, MD\, 21502\, United States
ATTACH;FMTTYPE=image/png:https://mikemckaymd.com/wp-content/uploads/2025/02/1124768517773766309.png
END:VEVENT
BEGIN:VEVENT
DTSTART;TZID=America/Halifax:20241206T090000
DTEND;TZID=America/Halifax:20241206T110000
DTSTAMP:20260420T163412
CREATED:20241121T203034Z
LAST-MODIFIED:20241121T203034Z
UID:3011-1733475600-1733482800@mikemckaymd.com
SUMMARY:Pre-Legislative Breakfast
DESCRIPTION:Pre-Legislative Breakfast \nDecember 6th | 9:00am – 11:00am \nRocky Gap Casino Resort \nRegister Here
URL:https://mikemckaymd.com/event/pre-legislative-breakfast/
LOCATION:Rocky Gap Casino Resort\, 16701 Lakeview Road N.E.\, Flintstone\, MD\, 21530\, United States
ATTACH;FMTTYPE=image/webp:https://mikemckaymd.com/wp-content/uploads/2024/11/Legislative-Events.webp
ORGANIZER;CN="Andrea Kraft":MAILTO:andrea@alleganycountychamber.com
END:VEVENT
BEGIN:VEVENT
DTSTART;TZID=America/Halifax:20240913T160000
DTEND;TZID=America/Halifax:20240913T180000
DTSTAMP:20260420T163412
CREATED:20240821T173505Z
LAST-MODIFIED:20240821T181659Z
UID:2957-1726243200-1726250400@mikemckaymd.com
SUMMARY:Senator Mike McKay's Family Picnic
DESCRIPTION:Mike McKay’s \n1st Annual Family Picnic \nFriday\, September 13th \n4:00 pm – 6:00 pm \nRocky Gap Golf Course\n(White Pine Pavallion) \n16701 Lakeview Road NE\, Flintstone\, MD \nTo purchase tickets\, click here.
URL:https://mikemckaymd.com/event/senator-mike-mckays-family-picnic/
LOCATION:Rocky Gap Golf Course\, 16701 Lakeview Road NE\, Flintstone\, MD\, 21530\, United States
ATTACH;FMTTYPE=application/pdf:https://mikemckaymd.com/wp-content/uploads/2024/08/Mike-McKays-Picnic-Flier.pdf
END:VEVENT
BEGIN:VEVENT
DTSTART;TZID=America/Halifax:20240913T110000
DTEND;TZID=America/Halifax:20240913T170000
DTSTAMP:20260420T163412
CREATED:20240715T185519Z
LAST-MODIFIED:20240801T215453Z
UID:2947-1726225200-1726246800@mikemckaymd.com
SUMMARY:Mike McKay’s 6th Annual Golf Tournament
DESCRIPTION:Mike McKay’s \n6th Annual Golf Tournament \nFriday\, September 13th \n11:00am | 11:40am “Shotgun Start” \nRocky Gap Golf Course \n16701 Lakeview Road NE\, Flintstone\, MD \nTo purchase tickets\, click here. \nFor information on tournament and event sponsorships\, click here. \nTo print a physical form\, click here.
URL:https://mikemckaymd.com/event/mike-mckays-6th-annual-golf-tournament/
LOCATION:Rocky Gap Golf Course\, 16701 Lakeview Road NE\, Flintstone\, MD\, 21530\, United States
ATTACH;FMTTYPE=image/png:https://mikemckaymd.com/wp-content/uploads/2024/07/McKay-Golf-Flyer.png
END:VEVENT
BEGIN:VEVENT
DTSTART;TZID=America/Halifax:20240109T083000
DTEND;TZID=America/Halifax:20240109T093000
DTSTAMP:20260420T163412
CREATED:20231229T221622Z
LAST-MODIFIED:20231229T221622Z
UID:2856-1704789000-1704792600@mikemckaymd.com
SUMMARY:Pre-Session Breakfast
DESCRIPTION:Join Senator Mike McKay\, member of\nthe Judicial Proceedings Committee\,\nand members of the Maryland Senate\nRepublican Caucus for the annual \nPre-Session Breakfast \nTuesday\, January 9th\n8:30 – 9:30am \nHarry Browne’s\n66 State Circle | Annapolis\, MD
URL:https://mikemckaymd.com/event/pre-session-breakfast/
LOCATION:Harry Browne’s Restaurant\, 66 State Circle\, Annapolis\, MD\, 21401\, United States
ATTACH;FMTTYPE=application/pdf:https://mikemckaymd.com/wp-content/uploads/2023/12/2024-Pre-Session-Breakfast-McKay.pdf
END:VEVENT
BEGIN:VEVENT
DTSTART;TZID=America/Halifax:20231011T180000
DTEND;TZID=America/Halifax:20231011T200000
DTSTAMP:20260420T163412
CREATED:20230905T171947Z
LAST-MODIFIED:20230905T173237Z
UID:2827-1697047200-1697054400@mikemckaymd.com
SUMMARY:Join State Senator Mike McKay For A Scenic Trip Through Western Maryland
DESCRIPTION:You’re Invited! \nClimb Aboard A Steam Train Through Scenic\nWestern Maryland While Enjoying Scotch And Cigars! \nDeluxe Coach & Cash Bar- $100 Per Ticket\nPremium Experience (Cigar Included)- $175 Per Ticket \n Western Maryland Scenic Railroad \n13 Canal St\, Cumberland\, MD 21502 \nOctober 11th | 7:00-9:30pm \nCheck-In 5:00-5:30pm \n\nTo Purchase Tickets\, Click Here. \nFor the Event Flyer\, Click Here. \nFor Information On Tournament And Event Sponsorships\, Click Here.
URL:https://mikemckaymd.com/event/october-11th-event/
LOCATION:Western Maryland Scenic Railroad\, 13 Canal St\, Cumberland\, MD\, 21502\, United States
ATTACH;FMTTYPE=image/jpeg:https://mikemckaymd.com/wp-content/uploads/2023/09/2nd-train-flyer.jpg
END:VEVENT
BEGIN:VEVENT
DTSTART;TZID=America/Halifax:20230915T110000
DTEND;TZID=America/Halifax:20230915T170000
DTSTAMP:20260420T163412
CREATED:20230821T155937Z
LAST-MODIFIED:20230821T155937Z
UID:2821-1694775600-1694797200@mikemckaymd.com
SUMMARY:Mike McKay's 5th Annual Golf Tournament
DESCRIPTION:Mike McKay’s \n5th Annual Golf Tournament \nFriday\, September 15th \n11:00am | 11:40am “Shotgun Start” \nRocky Gap Golf Course \n16701 Lakeview Road NE\, Flintstone\, MD \nTo purchase tickets\, click here. \nFor information on tournament and event sponsorships\, click here. \nTo print a physical form\, click here.
URL:https://mikemckaymd.com/event/mike-mckays-5th-annual-golf-tournament/
LOCATION:Rocky Gap Golf Course\, 16701 Lakeview Road NE\, Flintstone\, MD\, 21530\, United States
ATTACH;FMTTYPE=image/jpeg:https://mikemckaymd.com/wp-content/uploads/2023/08/Screenshot_20230818_183612_Email.jpg
END:VEVENT
BEGIN:VEVENT
DTSTART;TZID=America/Halifax:20221027T190000
DTEND;TZID=America/Halifax:20221027T213000
DTSTAMP:20260420T163412
CREATED:20220923T160818Z
LAST-MODIFIED:20220923T162018Z
UID:2530-1666897200-1666906200@mikemckaymd.com
SUMMARY:Join State Senate Candidate Mike McKay For Scenic Trip Through Western Maryland
DESCRIPTION:You’re Invited! \nClimb Aboard A Steam Train Through Scenic\nWestern Maryland While Enjoying Scotch And Cigars! \nDeluxe Coach & Cash Bar- $100 Per Ticket\nPremium Experience (Cigar And\nScotch)- $175 Per Ticket \n Western Maryland Scenic Railroad \n13 Canal St\, Cumberland\, MD 21502 \nOctober 27th | 7:00-9:30pm \nCheck In 6:00-6:30pm \nTo purchase tickets\, click here. \nFor event flyer\, click here.
URL:https://mikemckaymd.com/event/join-state-senate-candidate-mike-mckay-for-scenic-trip-through-western-maryland/
LOCATION:Western Maryland Scenic Railroad\, 13 Canal St\, Cumberland\, MD\, 21502\, United States
ATTACH;FMTTYPE=application/pdf:https://mikemckaymd.com/wp-content/uploads/2022/09/mckay-formal-.pdf
END:VEVENT
BEGIN:VEVENT
DTSTART;TZID=America/Halifax:20221021T110000
DTEND;TZID=America/Halifax:20221021T170000
DTSTAMP:20260420T163412
CREATED:20220810T220038Z
LAST-MODIFIED:20220810T220038Z
UID:2518-1666350000-1666371600@mikemckaymd.com
SUMMARY:Mike McKay's 4th Annual Golf Tournament
DESCRIPTION:Mike McKay’s \n4th Annual Golf Tournament \nFriday\, October 21st \n11:00am | 11:40am “Shotgun Start” \nRocky Gap Golf Course \n16701 Lakeview Road NE\, Flintstone\, MD \nTo purchase tickets\, click here. \nFor tournament and event sponsorships\, click here. \n  \n  \n  \n 
URL:https://mikemckaymd.com/event/mike-mckays-4th-annual-golf-tournament/
LOCATION:Rocky Gap Golf Course\, 16701 Lakeview Road NE\, Flintstone\, MD\, 21530\, United States
ATTACH;FMTTYPE=image/png:https://mikemckaymd.com/wp-content/uploads/2022/08/image001-2.png
END:VEVENT
BEGIN:VEVENT
DTSTART;TZID=America/Halifax:20220828T140000
DTEND;TZID=America/Halifax:20220828T170000
DTSTAMP:20260420T163412
CREATED:20220811T172155Z
LAST-MODIFIED:20220811T173350Z
UID:2523-1661695200-1661706000@mikemckaymd.com
SUMMARY:Join Mike McKay for BBQ at Double Dutch Farm
DESCRIPTION:Please Join Mike McKay \nfor a \nBBQ \nat Double Dutch Farm \n4143 Bethlehem Rd. Oakland\, Md 21550 \nSunday\, August 28th | 2:00 – 5:00pm \nTo purchase a ticket\, click here. \nFor event flyer\, click here.
URL:https://mikemckaymd.com/event/join-mike-mckay-for-bbq-at-double-dutch-farm/
LOCATION:Double Dutch Farm\, 4143 Bethlehem Road\, Oakland\, MD\, 21550\, United States
ATTACH;FMTTYPE=application/pdf:https://mikemckaymd.com/wp-content/uploads/2022/08/August-28th-BBQ.pdf
END:VEVENT
BEGIN:VEVENT
DTSTART;TZID=America/Halifax:20220626T160000
DTEND;TZID=America/Halifax:20220626T180000
DTSTAMP:20260420T163412
CREATED:20220516T210655Z
LAST-MODIFIED:20220516T210655Z
UID:2456-1656259200-1656266400@mikemckaymd.com
SUMMARY:Please join Mike McKay for a day of family fun at Memories and Meals
DESCRIPTION:Please join\nMike McKay\nfor a day of family fun\nat \nMemories and Meals\n12621 National Pike\, Clear Spring\, MD 21722\non \nJune 26th\, 4-6pm\nFor event flyer\, click here.
URL:https://mikemckaymd.com/event/please-join-mike-mckay-for-a-day-of-family-fun-at-memories-and-meals/
LOCATION:Memories and Meals\, 12621 National Pike\, Clear Spring\, MD\, 21722\, United States
ATTACH;FMTTYPE=application/pdf:https://mikemckaymd.com/wp-content/uploads/2022/05/McKay-6.26.pdf
END:VEVENT
BEGIN:VEVENT
DTSTART;TZID=America/Halifax:20220612T160000
DTEND;TZID=America/Halifax:20220612T180000
DTSTAMP:20260420T163412
CREATED:20220516T210958Z
LAST-MODIFIED:20220516T211544Z
UID:2459-1655049600-1655056800@mikemckaymd.com
SUMMARY:Please join Mike McKay for a day of family fun at Double G RV Park
DESCRIPTION:Please join\nMike McKay\nfor a day of family fun\nat \nDouble G RV Park\n76 Double G Dr. McHenry\, MD 21541\non \nJune 12th\, 4:00 – 6:00pm\nFor event flyer\, click here.
URL:https://mikemckaymd.com/event/please-join-mike-mckay-for-a-day-of-family-fun-at-double-g-rv-park/
LOCATION:Double G RV Park\, 76 Double G Drive\, McHenry\, MD\, 21541\, United States
ATTACH;FMTTYPE=application/pdf:https://mikemckaymd.com/wp-content/uploads/2022/05/McKay-6.12.pdf
END:VEVENT
BEGIN:VEVENT
DTSTART;TZID=America/Halifax:20220605T160000
DTEND;TZID=America/Halifax:20220605T180000
DTSTAMP:20260420T163412
CREATED:20220516T211228Z
LAST-MODIFIED:20220516T211228Z
UID:2462-1654444800-1654452000@mikemckaymd.com
SUMMARY:Join Mike McKay for a day of family fun at Locust Post Brewery
DESCRIPTION:Please join\nMike McKay\nfor a day of family fun\nat \nLocust Post Brewery\n31706 Old Adams Rd\, Little Orleans\, MD 2176\non \nJune 5th\, 4-6pm\nFor event flyer\, click here.
URL:https://mikemckaymd.com/event/join-mike-mckay-for-a-day-of-family-fun-at-locust-post-brewery/
LOCATION:Locust Post Brewery\, 31706 Old Adams Rd\, Little Orleans\, MD\, 21076\, United States
ATTACH;FMTTYPE=application/pdf:https://mikemckaymd.com/wp-content/uploads/2022/05/McKay-Family-Fun.pdf
END:VEVENT
END:VCALENDAR